BEGIN:VCALENDAR
VERSION:2.0
PRODID:-//Meg M. Robinson - ECPv6.15.20//NONSGML v1.0//EN
CALSCALE:GREGORIAN
METHOD:PUBLISH
X-ORIGINAL-URL:https://megmrobinson.com
X-WR-CALDESC:Events for Meg M. Robinson
REFRESH-INTERVAL;VALUE=DURATION:PT1H
X-Robots-Tag:noindex
X-PUBLISHED-TTL:PT1H
BEGIN:VTIMEZONE
TZID:America/New_York
BEGIN:DAYLIGHT
TZOFFSETFROM:-0500
TZOFFSETTO:-0400
TZNAME:EDT
DTSTART:20250309T070000
END:DAYLIGHT
BEGIN:STANDARD
TZOFFSETFROM:-0400
TZOFFSETTO:-0500
TZNAME:EST
DTSTART:20251102T060000
END:STANDARD
BEGIN:DAYLIGHT
TZOFFSETFROM:-0500
TZOFFSETTO:-0400
TZNAME:EDT
DTSTART:20260308T070000
END:DAYLIGHT
BEGIN:STANDARD
TZOFFSETFROM:-0400
TZOFFSETTO:-0500
TZNAME:EST
DTSTART:20261101T060000
END:STANDARD
BEGIN:DAYLIGHT
TZOFFSETFROM:-0500
TZOFFSETTO:-0400
TZNAME:EDT
DTSTART:20270314T070000
END:DAYLIGHT
BEGIN:STANDARD
TZOFFSETFROM:-0400
TZOFFSETTO:-0500
TZNAME:EST
DTSTART:20271107T060000
END:STANDARD
END:VTIMEZONE
BEGIN:VEVENT
DTSTART;TZID=America/New_York:20260425T100000
DTEND;TZID=America/New_York:20260425T180000
DTSTAMP:20260423T200438
CREATED:20260407T182335Z
LAST-MODIFIED:20260407T182335Z
UID:126-1777111200-1777140000@megmrobinson.com
SUMMARY:Once Upon a Market - Spring 2026
DESCRIPTION:I’ll be at a new (to me) bookstore on April 25\, 2026! Come see me\, other authors\, and some crafters at Damsel bookstore in Canton Georgia. It’s a romance bookstore\, so you’re bound to find something new to read. We’ll be under the big white tent at the back of the shopping center. (And it’ll be the first event where you can get a signed copy of Hunted. Hint hint!)
URL:https://megmrobinson.com/event/once-upon-a-market-spring-2026/
LOCATION:Damsel Bookstore\, 225 Reformation Parkway\, Canton\, GA\, 30114\, United States
CATEGORIES:Event
ATTACH;FMTTYPE=image/png:https://megmrobinson.com/wp-content/uploads/2026/04/8.png
END:VEVENT
END:VCALENDAR